BEGIN:VCALENDAR
VERSION:2.0
PRODID:-//The Missionary Church Association in Jamaica - ECPv6.15.20//NONSGML v1.0//EN
CALSCALE:GREGORIAN
METHOD:PUBLISH
X-WR-CALNAME:The Missionary Church Association in Jamaica
X-ORIGINAL-URL:https://the-mcaj.org
X-WR-CALDESC:Events for The Missionary Church Association in Jamaica
REFRESH-INTERVAL;VALUE=DURATION:PT1H
X-Robots-Tag:noindex
X-PUBLISHED-TTL:PT1H
BEGIN:VTIMEZONE
TZID:America/Jamaica
BEGIN:STANDARD
TZOFFSETFROM:-0500
TZOFFSETTO:-0500
TZNAME:EST
DTSTART:20260101T000000
END:STANDARD
END:VTIMEZONE
BEGIN:VEVENT
DTSTART;TZID=America/Jamaica:20270529T080000
DTEND;TZID=America/Jamaica:20270529T170000
DTSTAMP:20260420T170847
CREATED:20260204T175353Z
LAST-MODIFIED:20260204T175531Z
UID:10001514-1811577600-1811610000@the-mcaj.org
SUMMARY:Annual Summer Camp Workers Retreat
DESCRIPTION:Retreat for persons who volunteer to work at the Annual Youth Camps of The MCAJ.
URL:https://the-mcaj.org/event/annual-camp-workers-retreat/2027-05-29/
LOCATION:The Kendal Camp and Conference Centre\, Kendal\, Mandeville\, Manchester\, 00000\, Jamaica
CATEGORIES:Summer Camp
ORGANIZER;CN="National Missionary Youth Ministries":MAILTO:mcanmym@gmail.com
GEO:18.0893401;-77.4887475
X-APPLE-STRUCTURED-LOCATION;VALUE=URI;X-ADDRESS=The Kendal Camp and Conference Centre Kendal Mandeville Manchester 00000 Jamaica;X-APPLE-RADIUS=500;X-TITLE=Kendal:geo:-77.4887475,18.0893401
END:VEVENT
BEGIN:VEVENT
DTSTART;TZID=America/Jamaica:20270530T180000
DTEND;TZID=America/Jamaica:20270530T210000
DTSTAMP:20260420T170847
CREATED:20250329T231615Z
LAST-MODIFIED:20250329T231724Z
UID:10001360-1811700000-1811710800@the-mcaj.org
SUMMARY:Moy Hall Missionary Church Annual Harvest Service
DESCRIPTION:Moy Hall Annual Harvest Service
URL:https://the-mcaj.org/event/moy-hall-missionary-church-annual-harvest-service/2027-05-30/
LOCATION:Moy Hall Missionary Church\, Moy Hall District\, P.O. Box 92\, Reading\, St. James\, 00000\, Jamaica
CATEGORIES:Harvest Service
ORGANIZER;CN="Moy Hall Missionary Church":MAILTO:moyhallmissionary@gmail.com
GEO:18.4401279;-77.9536602
X-APPLE-STRUCTURED-LOCATION;VALUE=URI;X-ADDRESS=Moy Hall Missionary Church Moy Hall District P.O. Box 92 Reading St. James 00000 Jamaica;X-APPLE-RADIUS=500;X-TITLE=Moy Hall District:geo:-77.9536602,18.4401279
END:VEVENT
BEGIN:VEVENT
DTSTART;TZID=America/Jamaica:20270612T080000
DTEND;TZID=America/Jamaica:20270612T170000
DTSTAMP:20260420T170847
CREATED:20250427T190646Z
LAST-MODIFIED:20250427T190703Z
UID:10001388-1812787200-1812819600@the-mcaj.org
SUMMARY:National Missions Conference
DESCRIPTION:The Evangelism and Missions Department’s National Missions Conference.
URL:https://the-mcaj.org/event/national-missions-conference/2027-06-12/
LOCATION:Manchester
CATEGORIES:Missions Conference
ORGANIZER;CN="Evangelism and Missions Department":MAILTO:evangelismandmissions@the-mcaj.org
END:VEVENT
BEGIN:VEVENT
DTSTART;TZID=America/Jamaica:20270619T080000
DTEND;TZID=America/Jamaica:20270619T100000
DTSTAMP:20260420T170847
CREATED:20250516T182309Z
LAST-MODIFIED:20250516T182330Z
UID:10001399-1813392000-1813399200@the-mcaj.org
SUMMARY:Wycliffe Annual Church Leaders' Breakfast
DESCRIPTION:The Annual Wycliffe Church Leaders’ Breakfast
URL:https://the-mcaj.org/event/wycliffe-annual-church-leaders-breakfast/2027-06-19/
LOCATION:Manchester
CATEGORIES:Fundraiser
ORGANIZER;CN="Wycliffe Bible Translators Caribbean":MAILTO:info@wycliffecaribbean.org
END:VEVENT
BEGIN:VEVENT
DTSTART;TZID=America/Jamaica:20270626T190000
DTEND;TZID=America/Jamaica:20270627T170000
DTSTAMP:20260420T170847
CREATED:20230128T044446Z
LAST-MODIFIED:20240608T211046Z
UID:10000162-1814036400-1814115600@the-mcaj.org
SUMMARY:Eastern Region Weekend Outreach
DESCRIPTION:MCAJ Community Outreach in the Eastern Region. Part of the islandwide exercise to reach communities across Jamaica.
URL:https://the-mcaj.org/event/eastern-region-weekend-outreach/2027-06-26/
LOCATION:Manchester
CATEGORIES:Crusade
ORGANIZER;CN="Evangelism and Missions Department":MAILTO:evangelismandmissions@the-mcaj.org
END:VEVENT
BEGIN:VEVENT
DTSTART;TZID=America/Jamaica:20270627T090000
DTEND;TZID=America/Jamaica:20270627T160000
DTSTAMP:20260420T170847
CREATED:20230317T224516Z
LAST-MODIFIED:20260212T162331Z
UID:10000124-1814086800-1814112000@the-mcaj.org
SUMMARY:Central Region Annual Convention
DESCRIPTION:The Central Region Ministers’ Council invites you to their Annual Convention 2025.
URL:https://the-mcaj.org/event/central-regional-convention/2027-06-27/
LOCATION:Spring Ground Missionary Church\, Spring Ground\, Manchester\, 00000\, Jamaica
CATEGORIES:Annual Convention
ATTACH;FMTTYPE=image/jpeg:https://the-mcaj.org/wp-content/uploads/MCAJ-Menu-Logo.jpg
ORGANIZER;CN="Central Region Ministers' Council - MCAJ":MAILTO:webmaster@the-mcaj.org
GEO:18.1730042;-77.4926544
END:VEVENT
BEGIN:VEVENT
DTSTART;TZID=America/Jamaica:20270627T180000
DTEND;TZID=America/Jamaica:20270627T210000
DTSTAMP:20260420T170847
CREATED:20250329T232845Z
LAST-MODIFIED:20250329T232927Z
UID:10001365-1814119200-1814130000@the-mcaj.org
SUMMARY:Lapland Missionary Church's Annual Harvest
DESCRIPTION:Lapland Missionary Church’s Annual Harvest Service.
URL:https://the-mcaj.org/event/lapland-missionarychurchs-annual-harvest/2027-06-27/
LOCATION:Lapland Missionary Church\, Lapland District\, St. James\, 00000\, Jamaica
CATEGORIES:Harvest Service
END:VEVENT
BEGIN:VEVENT
DTSTART;TZID=America/Jamaica:20270710T080000
DTEND;TZID=America/Jamaica:20270717T170000
DTSTAMP:20260420T170847
CREATED:20231026T061814Z
LAST-MODIFIED:20250324T155438Z
UID:10000653-1815206400-1815843600@the-mcaj.org
SUMMARY:NMYM Summer Camp - Camp 1
DESCRIPTION:The National Missionary Youth Ministries Summer Camp 1 is for ages 6-8.
URL:https://the-mcaj.org/event/nmym-summer-camp-camp-1/2027-07-10/
LOCATION:The Kendal Camp and Conference Centre\, Kendal\, Mandeville\, Manchester\, 00000\, Jamaica
CATEGORIES:Summer Camp
ORGANIZER;CN="National Missionary Youth Ministries":MAILTO:mcanmym@gmail.com
GEO:18.0893401;-77.4887475
X-APPLE-STRUCTURED-LOCATION;VALUE=URI;X-ADDRESS=The Kendal Camp and Conference Centre Kendal Mandeville Manchester 00000 Jamaica;X-APPLE-RADIUS=500;X-TITLE=Kendal:geo:-77.4887475,18.0893401
END:VEVENT
BEGIN:VEVENT
DTSTART;TZID=America/Jamaica:20270712T080000
DTEND;TZID=America/Jamaica:20270715T170000
DTSTAMP:20260420T170847
CREATED:20230204T042744Z
LAST-MODIFIED:20230317T230504Z
UID:10000129-1815379200-1815670800@the-mcaj.org
SUMMARY:MCAJ Executive and Ministers Retreat
DESCRIPTION:Annual MCAJ Executive and Ministers Retreat.
URL:https://the-mcaj.org/event/mcaj-executive-and-ministers-retreat/2027-07-12/
LOCATION:MCAJ Virtual Platforms\, 14-16 West Avenue\, Kingston 8\, 00000\, Jamaica
CATEGORIES:Annual Conference
ORGANIZER;CN="The Missionary Church Association in Jamaica":MAILTO:mcaj@the-mcaj.org
GEO:18.0331225;-76.7994006
X-APPLE-STRUCTURED-LOCATION;VALUE=URI;X-ADDRESS=MCAJ Virtual Platforms 14-16 West Avenue Kingston 8 00000 Jamaica;X-APPLE-RADIUS=500;X-TITLE=14-16 West Avenue:geo:-76.7994006,18.0331225
END:VEVENT
BEGIN:VEVENT
DTSTART;TZID=America/Jamaica:20270717T080000
DTEND;TZID=America/Jamaica:20270724T170000
DTSTAMP:20260420T170847
CREATED:20231026T062506Z
LAST-MODIFIED:20250324T155151Z
UID:10000659-1815811200-1816448400@the-mcaj.org
SUMMARY:NMYM Summer Camp - Camp 2
DESCRIPTION:The National Missionary Youth Ministries Summer Camp 2 is for children aged 9 – 11.
URL:https://the-mcaj.org/event/nmym-summer-camp-camp-2-2/2027-07-17/
LOCATION:The Kendal Camp and Conference Centre\, Kendal\, Mandeville\, Manchester\, 00000\, Jamaica
CATEGORIES:Summer Camp
ORGANIZER;CN="National Missionary Youth Ministries":MAILTO:mcanmym@gmail.com
GEO:18.0893401;-77.4887475
X-APPLE-STRUCTURED-LOCATION;VALUE=URI;X-ADDRESS=The Kendal Camp and Conference Centre Kendal Mandeville Manchester 00000 Jamaica;X-APPLE-RADIUS=500;X-TITLE=Kendal:geo:-77.4887475,18.0893401
END:VEVENT
BEGIN:VEVENT
DTSTART;TZID=America/Jamaica:20270718T090000
DTEND;TZID=America/Jamaica:20270718T110000
DTSTAMP:20260420T170847
CREATED:20260212T161352Z
LAST-MODIFIED:20260212T161754Z
UID:10001567-1815901200-1815908400@the-mcaj.org
SUMMARY:The MCAJ 2026 National Day Of Prayer
DESCRIPTION:The 2026 Annual National Day of Prayer for The MCAJ is on July 19\, 2026.
URL:https://the-mcaj.org/event/national-day-of-prayer/2027-07-18/
LOCATION:MCAJ Virtual Platforms\, 14-16 West Avenue\, Kingston 8\, 00000\, Jamaica
CATEGORIES:Online Event,Prayer Meeting
ATTACH;FMTTYPE=image/jpeg:https://the-mcaj.org/wp-content/uploads/MCAJ-Menu-Logo.jpg
ORGANIZER;CN="The Missionary Church Association in Jamaica":MAILTO:mcaj@the-mcaj.org
GEO:18.0331225;-76.7994006
X-APPLE-STRUCTURED-LOCATION;VALUE=URI;X-ADDRESS=MCAJ Virtual Platforms 14-16 West Avenue Kingston 8 00000 Jamaica;X-APPLE-RADIUS=500;X-TITLE=14-16 West Avenue:geo:-76.7994006,18.0331225
END:VEVENT
BEGIN:VEVENT
DTSTART;TZID=America/Jamaica:20270724T080000
DTEND;TZID=America/Jamaica:20270731T170000
DTSTAMP:20260420T170847
CREATED:20231026T062825Z
LAST-MODIFIED:20250324T155052Z
UID:10000665-1816416000-1817053200@the-mcaj.org
SUMMARY:NMYM Summer Camp - Camp 3
DESCRIPTION:The National Missionary Youth Ministries Summer Camp 3 is for children aged 12 – 14.
URL:https://the-mcaj.org/event/nmym-summer-camp-camp-3-2/2027-07-24/
LOCATION:The Kendal Camp and Conference Centre\, Kendal\, Mandeville\, Manchester\, 00000\, Jamaica
CATEGORIES:Summer Camp
ORGANIZER;CN="National Missionary Youth Ministries":MAILTO:mcanmym@gmail.com
GEO:18.0893401;-77.4887475
X-APPLE-STRUCTURED-LOCATION;VALUE=URI;X-ADDRESS=The Kendal Camp and Conference Centre Kendal Mandeville Manchester 00000 Jamaica;X-APPLE-RADIUS=500;X-TITLE=Kendal:geo:-77.4887475,18.0893401
END:VEVENT
BEGIN:VEVENT
DTSTART;TZID=America/Jamaica:20270725T090000
DTEND;TZID=America/Jamaica:20270725T110000
DTSTAMP:20260420T170847
CREATED:20230317T232316Z
LAST-MODIFIED:20250324T154950Z
UID:10000834-1816506000-1816513200@the-mcaj.org
SUMMARY:National Day Of Prayer
DESCRIPTION:Proposed date for the Annual National Day of Prayer for The MCAJ.
URL:https://the-mcaj.org/event/national-day-of-prayer-2/2027-07-25/
LOCATION:MCAJ Virtual Platforms\, 14-16 West Avenue\, Kingston 8\, 00000\, Jamaica
CATEGORIES:Online Event,Prayer Meeting
ORGANIZER;CN="The Missionary Church Association in Jamaica":MAILTO:mcaj@the-mcaj.org
GEO:18.0331225;-76.7994006
X-APPLE-STRUCTURED-LOCATION;VALUE=URI;X-ADDRESS=MCAJ Virtual Platforms 14-16 West Avenue Kingston 8 00000 Jamaica;X-APPLE-RADIUS=500;X-TITLE=14-16 West Avenue:geo:-76.7994006,18.0331225
END:VEVENT
BEGIN:VEVENT
DTSTART;TZID=America/Jamaica:20270807T080000
DTEND;TZID=America/Jamaica:20270814T170000
DTSTAMP:20260420T170847
CREATED:20231026T063130Z
LAST-MODIFIED:20250324T154814Z
UID:10000671-1817625600-1818262800@the-mcaj.org
SUMMARY:NMYM Summer Camp - Camp 4
DESCRIPTION:The National Missionary Youth Ministries Summer Camp 4 is for youth aged 15 – 17.
URL:https://the-mcaj.org/event/nmym-summer-camp-camp-4-2/2027-08-07/
LOCATION:The Kendal Camp and Conference Centre\, Kendal\, Mandeville\, Manchester\, 00000\, Jamaica
CATEGORIES:Summer Camp
ORGANIZER;CN="National Missionary Youth Ministries":MAILTO:mcanmym@gmail.com
GEO:18.0893401;-77.4887475
X-APPLE-STRUCTURED-LOCATION;VALUE=URI;X-ADDRESS=The Kendal Camp and Conference Centre Kendal Mandeville Manchester 00000 Jamaica;X-APPLE-RADIUS=500;X-TITLE=Kendal:geo:-77.4887475,18.0893401
END:VEVENT
BEGIN:VEVENT
DTSTART;TZID=America/Jamaica:20270814T080000
DTEND;TZID=America/Jamaica:20270814T170000
DTSTAMP:20260420T170847
CREATED:20260204T204708Z
LAST-MODIFIED:20260204T204736Z
UID:10001526-1818230400-1818262800@the-mcaj.org
SUMMARY:NMYM Annual Sports Day
DESCRIPTION:The Annual NMYM Sports Day is held on Saturday at the closing of Camp 4 and the start of Camp 5.
URL:https://the-mcaj.org/event/nmym-annual-sports-day/2027-08-14/
LOCATION:The Kendal Camp and Conference Centre\, Kendal\, Mandeville\, Manchester\, 00000\, Jamaica
CATEGORIES:Summer Camp,Youth Ministry Events
ORGANIZER;CN="National Missionary Youth Ministries":MAILTO:mcanmym@gmail.com
GEO:18.0893401;-77.4887475
X-APPLE-STRUCTURED-LOCATION;VALUE=URI;X-ADDRESS=The Kendal Camp and Conference Centre Kendal Mandeville Manchester 00000 Jamaica;X-APPLE-RADIUS=500;X-TITLE=Kendal:geo:-77.4887475,18.0893401
END:VEVENT
BEGIN:VEVENT
DTSTART;TZID=America/Jamaica:20270814T080000
DTEND;TZID=America/Jamaica:20270821T170000
DTSTAMP:20260420T170847
CREATED:20231026T063508Z
LAST-MODIFIED:20250324T154715Z
UID:10000677-1818230400-1818867600@the-mcaj.org
SUMMARY:NMYM Summer Camp - Camp 5
DESCRIPTION:The National Missionary Youth Ministries Summer Camp 5 is for youth aged 18 and over.
URL:https://the-mcaj.org/event/nmym-summer-camp-camp-5-2/2027-08-14/
LOCATION:The Kendal Camp and Conference Centre\, Kendal\, Mandeville\, Manchester\, 00000\, Jamaica
CATEGORIES:Summer Camp
ORGANIZER;CN="National Missionary Youth Ministries":MAILTO:mcanmym@gmail.com
GEO:18.0893401;-77.4887475
X-APPLE-STRUCTURED-LOCATION;VALUE=URI;X-ADDRESS=The Kendal Camp and Conference Centre Kendal Mandeville Manchester 00000 Jamaica;X-APPLE-RADIUS=500;X-TITLE=Kendal:geo:-77.4887475,18.0893401
END:VEVENT
BEGIN:VEVENT
DTSTART;TZID=America/Jamaica:20270821T100000
DTEND;TZID=America/Jamaica:20270821T170000
DTSTAMP:20260420T170847
CREATED:20240718T194125Z
LAST-MODIFIED:20250728T160636Z
UID:10000829-1818842400-1818867600@the-mcaj.org
SUMMARY:Hampton Green MC Annual Health Fair
DESCRIPTION:The Hampton Green Missionary Church\, in partnership with the Ministry of Health\, hosts its Annual Health Fair in August 2025\, commencing at 10 a.m. \n\n\n\nThere will be Doctors and Nurses who will facilitate: children’s medical and examination of anyone needing care\, including blood pressure\, glucose\, Cholesterol and Body Mass Index (BMI) checks. \n\n\n\nOther services being offered are: \n\n\n\n\nECG – Heart Foundation of Jamaica\n\n\n\nPapsmear – Jamaica Cancer Society\n\n\n\nDental Hygienists – teeth cleaning for both adults and children (Wellington Dental)\n\n\n\nEye Examination – Lions Club\n\n\n\nDoctors – children’s medical and examination of anyone needing care\n\n\n\nNurses – blood pressure checks\, glucose checks\, Cholesterol checks and Body Mass Index (BMI).\n\n\n\nHIV Tests\n\n\n\nChildren Immunization\n\n\n\nNutritional Talk and Advice
URL:https://the-mcaj.org/event/hampton-green-mc-annual-health-fair/2027-08-21/
LOCATION:Hampton Green Missionary Church\, 2 St. John's Road\, Spanish Town\, St. Catherine\, 00000\, Jamaica
CATEGORIES:Community Outreach
GEO:17.9984924;-76.9658935
X-APPLE-STRUCTURED-LOCATION;VALUE=URI;X-ADDRESS=Hampton Green Missionary Church 2 St. John's Road Spanish Town St. Catherine 00000 Jamaica;X-APPLE-RADIUS=500;X-TITLE=2 St. John's Road:geo:-76.9658935,17.9984924
END:VEVENT
BEGIN:VEVENT
DTSTART;TZID=America/Jamaica:20270827T180000
DTEND;TZID=America/Jamaica:20270827T210000
DTSTAMP:20260420T170847
CREATED:20240817T185021Z
LAST-MODIFIED:20250324T154240Z
UID:10000841-1819389600-1819400400@the-mcaj.org
SUMMARY:Mollison Missionary Church's Annual Concert
DESCRIPTION:Mollison Missionary Church presents their Annual Concert at their Sanctuary.
URL:https://the-mcaj.org/event/mollison-missionary-churchs-annual-concert/2027-08-27/
LOCATION:Mollison Missionary Church\, Mollison\, Manchester\, 00000\, Jamaica
CATEGORIES:Gospel Concert
GEO:18.1744985;-77.5072588
END:VEVENT
END:VCALENDAR