BEGIN:VCALENDAR
VERSION:2.0
PRODID:-//The Missionary Church Association in Jamaica - ECPv6.15.20//NONSGML v1.0//EN
CALSCALE:GREGORIAN
METHOD:PUBLISH
X-WR-CALNAME:The Missionary Church Association in Jamaica
X-ORIGINAL-URL:https://the-mcaj.org
X-WR-CALDESC:Events for The Missionary Church Association in Jamaica
REFRESH-INTERVAL;VALUE=DURATION:PT1H
X-Robots-Tag:noindex
X-PUBLISHED-TTL:PT1H
BEGIN:VTIMEZONE
TZID:America/Jamaica
BEGIN:STANDARD
TZOFFSETFROM:-0500
TZOFFSETTO:-0500
TZNAME:EST
DTSTART:20250101T000000
END:STANDARD
END:VTIMEZONE
BEGIN:VEVENT
DTSTART;TZID=America/Jamaica:20260530T080000
DTEND;TZID=America/Jamaica:20260530T170000
DTSTAMP:20260422T055541
CREATED:20260204T181447Z
LAST-MODIFIED:20260204T183110Z
UID:10001513-1780128000-1780160400@the-mcaj.org
SUMMARY:Annual Summer Camp Workers Retreat 2026
DESCRIPTION:Annual Retreat for persons who volunteer to work at the Annual Youth Camps of The MCAJ.
URL:https://the-mcaj.org/event/annual-summer-camp-workers-retreat/
LOCATION:The Kendal Camp and Conference Centre\, Kendal\, Mandeville\, Manchester\, 00000\, Jamaica
CATEGORIES:Summer Camp,Youth Ministry Events
ORGANIZER;CN="National Missionary Youth Ministries":MAILTO:mcanmym@gmail.com
GEO:18.0893401;-77.4887475
X-APPLE-STRUCTURED-LOCATION;VALUE=URI;X-ADDRESS=The Kendal Camp and Conference Centre Kendal Mandeville Manchester 00000 Jamaica;X-APPLE-RADIUS=500;X-TITLE=Kendal:geo:-77.4887475,18.0893401
END:VEVENT
BEGIN:VEVENT
DTSTART;TZID=America/Jamaica:20260705T080000
DTEND;TZID=America/Jamaica:20260705T170000
DTSTAMP:20260422T055541
CREATED:20260204T190826Z
LAST-MODIFIED:20260204T192553Z
UID:10001519-1783238400-1783270800@the-mcaj.org
SUMMARY:Day of Prayer for 2026 Summer Camps
DESCRIPTION:A National Day of Prayer for the 2026 Summer Camps. These events are scheduled to take place at the Kendal Camp and Conference Centre from July 11\, 2026\, through August 15\, 2026.
URL:https://the-mcaj.org/event/day-of-prayer-for-2026-summer-camps/
LOCATION:The Kendal Camp and Conference Centre\, Kendal\, Mandeville\, Manchester\, 00000\, Jamaica
CATEGORIES:Special Worship Service,Summer Camp,Youth Ministry Events
ORGANIZER;CN="National Missionary Youth Ministries":MAILTO:mcanmym@gmail.com
GEO:18.0893401;-77.4887475
X-APPLE-STRUCTURED-LOCATION;VALUE=URI;X-ADDRESS=The Kendal Camp and Conference Centre Kendal Mandeville Manchester 00000 Jamaica;X-APPLE-RADIUS=500;X-TITLE=Kendal:geo:-77.4887475,18.0893401
END:VEVENT
BEGIN:VEVENT
DTSTART;TZID=America/Jamaica:20260711T080000
DTEND;TZID=America/Jamaica:20260718T170000
DTSTAMP:20260422T055541
CREATED:20260204T194013Z
LAST-MODIFIED:20260204T200159Z
UID:10000652-1783756800-1784394000@the-mcaj.org
SUMMARY:NMYM 2026 Summer Camp - Camp 1
DESCRIPTION:The National Missionary Youth Ministries 2026 Summer Camp 1 is designed for children aged 6-8.
URL:https://the-mcaj.org/event/nmym-summer-camp-camp-1-2/
LOCATION:The Kendal Camp and Conference Centre\, Kendal\, Mandeville\, Manchester\, 00000\, Jamaica
CATEGORIES:Summer Camp
ORGANIZER;CN="National Missionary Youth Ministries":MAILTO:mcanmym@gmail.com
GEO:18.0893401;-77.4887475
X-APPLE-STRUCTURED-LOCATION;VALUE=URI;X-ADDRESS=The Kendal Camp and Conference Centre Kendal Mandeville Manchester 00000 Jamaica;X-APPLE-RADIUS=500;X-TITLE=Kendal:geo:-77.4887475,18.0893401
END:VEVENT
BEGIN:VEVENT
DTSTART;TZID=America/Jamaica:20260718T080000
DTEND;TZID=America/Jamaica:20260725T170000
DTSTAMP:20260422T055541
CREATED:20260204T201011Z
LAST-MODIFIED:20260204T201020Z
UID:10000658-1784361600-1784998800@the-mcaj.org
SUMMARY:NMYM 2026 Summer Camp - Camp 2
DESCRIPTION:The National Missionary Youth Ministries Summer Camp 2 is for children aged 9 – 11.
URL:https://the-mcaj.org/event/nmym-summer-camp-camp-2/
LOCATION:The Kendal Camp and Conference Centre\, Kendal\, Mandeville\, Manchester\, 00000\, Jamaica
CATEGORIES:Summer Camp
ORGANIZER;CN="National Missionary Youth Ministries":MAILTO:mcanmym@gmail.com
GEO:18.0893401;-77.4887475
X-APPLE-STRUCTURED-LOCATION;VALUE=URI;X-ADDRESS=The Kendal Camp and Conference Centre Kendal Mandeville Manchester 00000 Jamaica;X-APPLE-RADIUS=500;X-TITLE=Kendal:geo:-77.4887475,18.0893401
END:VEVENT
BEGIN:VEVENT
DTSTART;TZID=America/Jamaica:20260725T080000
DTEND;TZID=America/Jamaica:20260801T170000
DTSTAMP:20260422T055541
CREATED:20260204T201601Z
LAST-MODIFIED:20260204T201622Z
UID:10000664-1784966400-1785603600@the-mcaj.org
SUMMARY:NMYM 2026 Summer Camp - Camp 3
DESCRIPTION:The 2026 National Missionary Youth Ministries Summer Camp 3 is for children aged 12 – 14.
URL:https://the-mcaj.org/event/nmym-summer-camp-camp-3/
LOCATION:The Kendal Camp and Conference Centre\, Kendal\, Mandeville\, Manchester\, 00000\, Jamaica
CATEGORIES:Summer Camp
ORGANIZER;CN="National Missionary Youth Ministries":MAILTO:mcanmym@gmail.com
GEO:18.0893401;-77.4887475
X-APPLE-STRUCTURED-LOCATION;VALUE=URI;X-ADDRESS=The Kendal Camp and Conference Centre Kendal Mandeville Manchester 00000 Jamaica;X-APPLE-RADIUS=500;X-TITLE=Kendal:geo:-77.4887475,18.0893401
END:VEVENT
BEGIN:VEVENT
DTSTART;TZID=America/Jamaica:20260801T080000
DTEND;TZID=America/Jamaica:20260808T170000
DTSTAMP:20260422T055541
CREATED:20260204T202813Z
LAST-MODIFIED:20260204T202830Z
UID:10000670-1785571200-1786208400@the-mcaj.org
SUMMARY:NMYM 2026 Summer Camp - Camp 4
DESCRIPTION:The 2026 National Missionary Youth Ministries Summer Camp 4 is for youth aged 15 – 17.
URL:https://the-mcaj.org/event/nmym-summer-camp-camp-4/
LOCATION:The Kendal Camp and Conference Centre\, Kendal\, Mandeville\, Manchester\, 00000\, Jamaica
CATEGORIES:Summer Camp
ORGANIZER;CN="National Missionary Youth Ministries":MAILTO:mcanmym@gmail.com
GEO:18.0893401;-77.4887475
X-APPLE-STRUCTURED-LOCATION;VALUE=URI;X-ADDRESS=The Kendal Camp and Conference Centre Kendal Mandeville Manchester 00000 Jamaica;X-APPLE-RADIUS=500;X-TITLE=Kendal:geo:-77.4887475,18.0893401
END:VEVENT
BEGIN:VEVENT
DTSTART;TZID=America/Jamaica:20260808T080000
DTEND;TZID=America/Jamaica:20260808T170000
DTSTAMP:20260422T055541
CREATED:20260204T205512Z
LAST-MODIFIED:20260204T205530Z
UID:10001525-1786176000-1786208400@the-mcaj.org
SUMMARY:NMYM Sports Day 2026
DESCRIPTION:The NMYM 2026 Sports Day is on Saturday\, August 8\, 2026\, at the closing of Camp 4 and the start of Camp 5.
URL:https://the-mcaj.org/event/nmym-annual-sports-day-2/
LOCATION:The Kendal Camp and Conference Centre\, Kendal\, Mandeville\, Manchester\, 00000\, Jamaica
CATEGORIES:Summer Camp,Youth Ministry Events
ORGANIZER;CN="National Missionary Youth Ministries":MAILTO:mcanmym@gmail.com
GEO:18.0893401;-77.4887475
X-APPLE-STRUCTURED-LOCATION;VALUE=URI;X-ADDRESS=The Kendal Camp and Conference Centre Kendal Mandeville Manchester 00000 Jamaica;X-APPLE-RADIUS=500;X-TITLE=Kendal:geo:-77.4887475,18.0893401
END:VEVENT
BEGIN:VEVENT
DTSTART;TZID=America/Jamaica:20260808T080000
DTEND;TZID=America/Jamaica:20260815T170000
DTSTAMP:20260422T055541
CREATED:20260204T203220Z
LAST-MODIFIED:20260204T203233Z
UID:10000676-1786176000-1786813200@the-mcaj.org
SUMMARY:NMYM 2026 Summer Camp - Camp 5
DESCRIPTION:The 2026 National Missionary Youth Ministries Summer Camp 5 is for youth aged 18 and over.
URL:https://the-mcaj.org/event/nmym-summer-camp-camp-5/
LOCATION:The Kendal Camp and Conference Centre\, Kendal\, Mandeville\, Manchester\, 00000\, Jamaica
CATEGORIES:Summer Camp
ORGANIZER;CN="National Missionary Youth Ministries":MAILTO:mcanmym@gmail.com
GEO:18.0893401;-77.4887475
X-APPLE-STRUCTURED-LOCATION;VALUE=URI;X-ADDRESS=The Kendal Camp and Conference Centre Kendal Mandeville Manchester 00000 Jamaica;X-APPLE-RADIUS=500;X-TITLE=Kendal:geo:-77.4887475,18.0893401
END:VEVENT
BEGIN:VEVENT
DTSTART;TZID=America/Jamaica:20270529T080000
DTEND;TZID=America/Jamaica:20270529T170000
DTSTAMP:20260422T055541
CREATED:20260204T175353Z
LAST-MODIFIED:20260204T175531Z
UID:10001514-1811577600-1811610000@the-mcaj.org
SUMMARY:Annual Summer Camp Workers Retreat
DESCRIPTION:Retreat for persons who volunteer to work at the Annual Youth Camps of The MCAJ.
URL:https://the-mcaj.org/event/annual-camp-workers-retreat/2027-05-29/
LOCATION:The Kendal Camp and Conference Centre\, Kendal\, Mandeville\, Manchester\, 00000\, Jamaica
CATEGORIES:Summer Camp
ORGANIZER;CN="National Missionary Youth Ministries":MAILTO:mcanmym@gmail.com
GEO:18.0893401;-77.4887475
X-APPLE-STRUCTURED-LOCATION;VALUE=URI;X-ADDRESS=The Kendal Camp and Conference Centre Kendal Mandeville Manchester 00000 Jamaica;X-APPLE-RADIUS=500;X-TITLE=Kendal:geo:-77.4887475,18.0893401
END:VEVENT
BEGIN:VEVENT
DTSTART;TZID=America/Jamaica:20270710T080000
DTEND;TZID=America/Jamaica:20270717T170000
DTSTAMP:20260422T055541
CREATED:20231026T061814Z
LAST-MODIFIED:20250324T155438Z
UID:10000653-1815206400-1815843600@the-mcaj.org
SUMMARY:NMYM Summer Camp - Camp 1
DESCRIPTION:The National Missionary Youth Ministries Summer Camp 1 is for ages 6-8.
URL:https://the-mcaj.org/event/nmym-summer-camp-camp-1/2027-07-10/
LOCATION:The Kendal Camp and Conference Centre\, Kendal\, Mandeville\, Manchester\, 00000\, Jamaica
CATEGORIES:Summer Camp
ORGANIZER;CN="National Missionary Youth Ministries":MAILTO:mcanmym@gmail.com
GEO:18.0893401;-77.4887475
X-APPLE-STRUCTURED-LOCATION;VALUE=URI;X-ADDRESS=The Kendal Camp and Conference Centre Kendal Mandeville Manchester 00000 Jamaica;X-APPLE-RADIUS=500;X-TITLE=Kendal:geo:-77.4887475,18.0893401
END:VEVENT
BEGIN:VEVENT
DTSTART;TZID=America/Jamaica:20270717T080000
DTEND;TZID=America/Jamaica:20270724T170000
DTSTAMP:20260422T055541
CREATED:20231026T062506Z
LAST-MODIFIED:20250324T155151Z
UID:10000659-1815811200-1816448400@the-mcaj.org
SUMMARY:NMYM Summer Camp - Camp 2
DESCRIPTION:The National Missionary Youth Ministries Summer Camp 2 is for children aged 9 – 11.
URL:https://the-mcaj.org/event/nmym-summer-camp-camp-2-2/2027-07-17/
LOCATION:The Kendal Camp and Conference Centre\, Kendal\, Mandeville\, Manchester\, 00000\, Jamaica
CATEGORIES:Summer Camp
ORGANIZER;CN="National Missionary Youth Ministries":MAILTO:mcanmym@gmail.com
GEO:18.0893401;-77.4887475
X-APPLE-STRUCTURED-LOCATION;VALUE=URI;X-ADDRESS=The Kendal Camp and Conference Centre Kendal Mandeville Manchester 00000 Jamaica;X-APPLE-RADIUS=500;X-TITLE=Kendal:geo:-77.4887475,18.0893401
END:VEVENT
BEGIN:VEVENT
DTSTART;TZID=America/Jamaica:20270724T080000
DTEND;TZID=America/Jamaica:20270731T170000
DTSTAMP:20260422T055541
CREATED:20231026T062825Z
LAST-MODIFIED:20250324T155052Z
UID:10000665-1816416000-1817053200@the-mcaj.org
SUMMARY:NMYM Summer Camp - Camp 3
DESCRIPTION:The National Missionary Youth Ministries Summer Camp 3 is for children aged 12 – 14.
URL:https://the-mcaj.org/event/nmym-summer-camp-camp-3-2/2027-07-24/
LOCATION:The Kendal Camp and Conference Centre\, Kendal\, Mandeville\, Manchester\, 00000\, Jamaica
CATEGORIES:Summer Camp
ORGANIZER;CN="National Missionary Youth Ministries":MAILTO:mcanmym@gmail.com
GEO:18.0893401;-77.4887475
X-APPLE-STRUCTURED-LOCATION;VALUE=URI;X-ADDRESS=The Kendal Camp and Conference Centre Kendal Mandeville Manchester 00000 Jamaica;X-APPLE-RADIUS=500;X-TITLE=Kendal:geo:-77.4887475,18.0893401
END:VEVENT
BEGIN:VEVENT
DTSTART;TZID=America/Jamaica:20270807T080000
DTEND;TZID=America/Jamaica:20270814T170000
DTSTAMP:20260422T055541
CREATED:20231026T063130Z
LAST-MODIFIED:20250324T154814Z
UID:10000671-1817625600-1818262800@the-mcaj.org
SUMMARY:NMYM Summer Camp - Camp 4
DESCRIPTION:The National Missionary Youth Ministries Summer Camp 4 is for youth aged 15 – 17.
URL:https://the-mcaj.org/event/nmym-summer-camp-camp-4-2/2027-08-07/
LOCATION:The Kendal Camp and Conference Centre\, Kendal\, Mandeville\, Manchester\, 00000\, Jamaica
CATEGORIES:Summer Camp
ORGANIZER;CN="National Missionary Youth Ministries":MAILTO:mcanmym@gmail.com
GEO:18.0893401;-77.4887475
X-APPLE-STRUCTURED-LOCATION;VALUE=URI;X-ADDRESS=The Kendal Camp and Conference Centre Kendal Mandeville Manchester 00000 Jamaica;X-APPLE-RADIUS=500;X-TITLE=Kendal:geo:-77.4887475,18.0893401
END:VEVENT
BEGIN:VEVENT
DTSTART;TZID=America/Jamaica:20270814T080000
DTEND;TZID=America/Jamaica:20270814T170000
DTSTAMP:20260422T055541
CREATED:20260204T204708Z
LAST-MODIFIED:20260204T204736Z
UID:10001526-1818230400-1818262800@the-mcaj.org
SUMMARY:NMYM Annual Sports Day
DESCRIPTION:The Annual NMYM Sports Day is held on Saturday at the closing of Camp 4 and the start of Camp 5.
URL:https://the-mcaj.org/event/nmym-annual-sports-day/2027-08-14/
LOCATION:The Kendal Camp and Conference Centre\, Kendal\, Mandeville\, Manchester\, 00000\, Jamaica
CATEGORIES:Summer Camp,Youth Ministry Events
ORGANIZER;CN="National Missionary Youth Ministries":MAILTO:mcanmym@gmail.com
GEO:18.0893401;-77.4887475
X-APPLE-STRUCTURED-LOCATION;VALUE=URI;X-ADDRESS=The Kendal Camp and Conference Centre Kendal Mandeville Manchester 00000 Jamaica;X-APPLE-RADIUS=500;X-TITLE=Kendal:geo:-77.4887475,18.0893401
END:VEVENT
BEGIN:VEVENT
DTSTART;TZID=America/Jamaica:20270814T080000
DTEND;TZID=America/Jamaica:20270821T170000
DTSTAMP:20260422T055541
CREATED:20231026T063508Z
LAST-MODIFIED:20250324T154715Z
UID:10000677-1818230400-1818867600@the-mcaj.org
SUMMARY:NMYM Summer Camp - Camp 5
DESCRIPTION:The National Missionary Youth Ministries Summer Camp 5 is for youth aged 18 and over.
URL:https://the-mcaj.org/event/nmym-summer-camp-camp-5-2/2027-08-14/
LOCATION:The Kendal Camp and Conference Centre\, Kendal\, Mandeville\, Manchester\, 00000\, Jamaica
CATEGORIES:Summer Camp
ORGANIZER;CN="National Missionary Youth Ministries":MAILTO:mcanmym@gmail.com
GEO:18.0893401;-77.4887475
X-APPLE-STRUCTURED-LOCATION;VALUE=URI;X-ADDRESS=The Kendal Camp and Conference Centre Kendal Mandeville Manchester 00000 Jamaica;X-APPLE-RADIUS=500;X-TITLE=Kendal:geo:-77.4887475,18.0893401
END:VEVENT
BEGIN:VEVENT
DTSTART;TZID=America/Jamaica:20280527T080000
DTEND;TZID=America/Jamaica:20280527T170000
DTSTAMP:20260422T055541
CREATED:20260204T175353Z
LAST-MODIFIED:20260204T175531Z
UID:10001515-1843027200-1843059600@the-mcaj.org
SUMMARY:Annual Summer Camp Workers Retreat
DESCRIPTION:Retreat for persons who volunteer to work at the Annual Youth Camps of The MCAJ.
URL:https://the-mcaj.org/event/annual-camp-workers-retreat/2028-05-27/
LOCATION:The Kendal Camp and Conference Centre\, Kendal\, Mandeville\, Manchester\, 00000\, Jamaica
CATEGORIES:Summer Camp
ORGANIZER;CN="National Missionary Youth Ministries":MAILTO:mcanmym@gmail.com
GEO:18.0893401;-77.4887475
X-APPLE-STRUCTURED-LOCATION;VALUE=URI;X-ADDRESS=The Kendal Camp and Conference Centre Kendal Mandeville Manchester 00000 Jamaica;X-APPLE-RADIUS=500;X-TITLE=Kendal:geo:-77.4887475,18.0893401
END:VEVENT
BEGIN:VEVENT
DTSTART;TZID=America/Jamaica:20280708T080000
DTEND;TZID=America/Jamaica:20280715T170000
DTSTAMP:20260422T055541
CREATED:20231026T061814Z
LAST-MODIFIED:20250324T155438Z
UID:10000654-1846656000-1847293200@the-mcaj.org
SUMMARY:NMYM Summer Camp - Camp 1
DESCRIPTION:The National Missionary Youth Ministries Summer Camp 1 is for ages 6-8.
URL:https://the-mcaj.org/event/nmym-summer-camp-camp-1/2028-07-08/
LOCATION:The Kendal Camp and Conference Centre\, Kendal\, Mandeville\, Manchester\, 00000\, Jamaica
CATEGORIES:Summer Camp
ORGANIZER;CN="National Missionary Youth Ministries":MAILTO:mcanmym@gmail.com
GEO:18.0893401;-77.4887475
X-APPLE-STRUCTURED-LOCATION;VALUE=URI;X-ADDRESS=The Kendal Camp and Conference Centre Kendal Mandeville Manchester 00000 Jamaica;X-APPLE-RADIUS=500;X-TITLE=Kendal:geo:-77.4887475,18.0893401
END:VEVENT
BEGIN:VEVENT
DTSTART;TZID=America/Jamaica:20280715T080000
DTEND;TZID=America/Jamaica:20280722T170000
DTSTAMP:20260422T055541
CREATED:20231026T062506Z
LAST-MODIFIED:20250324T155151Z
UID:10000660-1847260800-1847898000@the-mcaj.org
SUMMARY:NMYM Summer Camp - Camp 2
DESCRIPTION:The National Missionary Youth Ministries Summer Camp 2 is for children aged 9 – 11.
URL:https://the-mcaj.org/event/nmym-summer-camp-camp-2-2/2028-07-15/
LOCATION:The Kendal Camp and Conference Centre\, Kendal\, Mandeville\, Manchester\, 00000\, Jamaica
CATEGORIES:Summer Camp
ORGANIZER;CN="National Missionary Youth Ministries":MAILTO:mcanmym@gmail.com
GEO:18.0893401;-77.4887475
X-APPLE-STRUCTURED-LOCATION;VALUE=URI;X-ADDRESS=The Kendal Camp and Conference Centre Kendal Mandeville Manchester 00000 Jamaica;X-APPLE-RADIUS=500;X-TITLE=Kendal:geo:-77.4887475,18.0893401
END:VEVENT
BEGIN:VEVENT
DTSTART;TZID=America/Jamaica:20280722T080000
DTEND;TZID=America/Jamaica:20280729T170000
DTSTAMP:20260422T055541
CREATED:20231026T062825Z
LAST-MODIFIED:20250324T155052Z
UID:10000666-1847865600-1848502800@the-mcaj.org
SUMMARY:NMYM Summer Camp - Camp 3
DESCRIPTION:The National Missionary Youth Ministries Summer Camp 3 is for children aged 12 – 14.
URL:https://the-mcaj.org/event/nmym-summer-camp-camp-3-2/2028-07-22/
LOCATION:The Kendal Camp and Conference Centre\, Kendal\, Mandeville\, Manchester\, 00000\, Jamaica
CATEGORIES:Summer Camp
ORGANIZER;CN="National Missionary Youth Ministries":MAILTO:mcanmym@gmail.com
GEO:18.0893401;-77.4887475
X-APPLE-STRUCTURED-LOCATION;VALUE=URI;X-ADDRESS=The Kendal Camp and Conference Centre Kendal Mandeville Manchester 00000 Jamaica;X-APPLE-RADIUS=500;X-TITLE=Kendal:geo:-77.4887475,18.0893401
END:VEVENT
BEGIN:VEVENT
DTSTART;TZID=America/Jamaica:20280805T080000
DTEND;TZID=America/Jamaica:20280812T170000
DTSTAMP:20260422T055541
CREATED:20231026T063130Z
LAST-MODIFIED:20250324T154814Z
UID:10000672-1849075200-1849712400@the-mcaj.org
SUMMARY:NMYM Summer Camp - Camp 4
DESCRIPTION:The National Missionary Youth Ministries Summer Camp 4 is for youth aged 15 – 17.
URL:https://the-mcaj.org/event/nmym-summer-camp-camp-4-2/2028-08-05/
LOCATION:The Kendal Camp and Conference Centre\, Kendal\, Mandeville\, Manchester\, 00000\, Jamaica
CATEGORIES:Summer Camp
ORGANIZER;CN="National Missionary Youth Ministries":MAILTO:mcanmym@gmail.com
GEO:18.0893401;-77.4887475
X-APPLE-STRUCTURED-LOCATION;VALUE=URI;X-ADDRESS=The Kendal Camp and Conference Centre Kendal Mandeville Manchester 00000 Jamaica;X-APPLE-RADIUS=500;X-TITLE=Kendal:geo:-77.4887475,18.0893401
END:VEVENT
BEGIN:VEVENT
DTSTART;TZID=America/Jamaica:20280812T080000
DTEND;TZID=America/Jamaica:20280812T170000
DTSTAMP:20260422T055541
CREATED:20260204T204708Z
LAST-MODIFIED:20260204T204736Z
UID:10001527-1849680000-1849712400@the-mcaj.org
SUMMARY:NMYM Annual Sports Day
DESCRIPTION:The Annual NMYM Sports Day is held on Saturday at the closing of Camp 4 and the start of Camp 5.
URL:https://the-mcaj.org/event/nmym-annual-sports-day/2028-08-12/
LOCATION:The Kendal Camp and Conference Centre\, Kendal\, Mandeville\, Manchester\, 00000\, Jamaica
CATEGORIES:Summer Camp,Youth Ministry Events
ORGANIZER;CN="National Missionary Youth Ministries":MAILTO:mcanmym@gmail.com
GEO:18.0893401;-77.4887475
X-APPLE-STRUCTURED-LOCATION;VALUE=URI;X-ADDRESS=The Kendal Camp and Conference Centre Kendal Mandeville Manchester 00000 Jamaica;X-APPLE-RADIUS=500;X-TITLE=Kendal:geo:-77.4887475,18.0893401
END:VEVENT
BEGIN:VEVENT
DTSTART;TZID=America/Jamaica:20280812T080000
DTEND;TZID=America/Jamaica:20280819T170000
DTSTAMP:20260422T055541
CREATED:20231026T063508Z
LAST-MODIFIED:20250324T154715Z
UID:10000678-1849680000-1850317200@the-mcaj.org
SUMMARY:NMYM Summer Camp - Camp 5
DESCRIPTION:The National Missionary Youth Ministries Summer Camp 5 is for youth aged 18 and over.
URL:https://the-mcaj.org/event/nmym-summer-camp-camp-5-2/2028-08-12/
LOCATION:The Kendal Camp and Conference Centre\, Kendal\, Mandeville\, Manchester\, 00000\, Jamaica
CATEGORIES:Summer Camp
ORGANIZER;CN="National Missionary Youth Ministries":MAILTO:mcanmym@gmail.com
GEO:18.0893401;-77.4887475
X-APPLE-STRUCTURED-LOCATION;VALUE=URI;X-ADDRESS=The Kendal Camp and Conference Centre Kendal Mandeville Manchester 00000 Jamaica;X-APPLE-RADIUS=500;X-TITLE=Kendal:geo:-77.4887475,18.0893401
END:VEVENT
BEGIN:VEVENT
DTSTART;TZID=America/Jamaica:20290526T080000
DTEND;TZID=America/Jamaica:20290526T170000
DTSTAMP:20260422T055541
CREATED:20260204T175353Z
LAST-MODIFIED:20260204T175531Z
UID:10001516-1874476800-1874509200@the-mcaj.org
SUMMARY:Annual Summer Camp Workers Retreat
DESCRIPTION:Retreat for persons who volunteer to work at the Annual Youth Camps of The MCAJ.
URL:https://the-mcaj.org/event/annual-camp-workers-retreat/2029-05-26/
LOCATION:The Kendal Camp and Conference Centre\, Kendal\, Mandeville\, Manchester\, 00000\, Jamaica
CATEGORIES:Summer Camp
ORGANIZER;CN="National Missionary Youth Ministries":MAILTO:mcanmym@gmail.com
GEO:18.0893401;-77.4887475
X-APPLE-STRUCTURED-LOCATION;VALUE=URI;X-ADDRESS=The Kendal Camp and Conference Centre Kendal Mandeville Manchester 00000 Jamaica;X-APPLE-RADIUS=500;X-TITLE=Kendal:geo:-77.4887475,18.0893401
END:VEVENT
BEGIN:VEVENT
DTSTART;TZID=America/Jamaica:20290714T080000
DTEND;TZID=America/Jamaica:20290721T170000
DTSTAMP:20260422T055541
CREATED:20231026T061814Z
LAST-MODIFIED:20250324T155438Z
UID:10000819-1878710400-1879347600@the-mcaj.org
SUMMARY:NMYM Summer Camp - Camp 1
DESCRIPTION:The National Missionary Youth Ministries Summer Camp 1 is for ages 6-8.
URL:https://the-mcaj.org/event/nmym-summer-camp-camp-1/2029-07-14/
LOCATION:The Kendal Camp and Conference Centre\, Kendal\, Mandeville\, Manchester\, 00000\, Jamaica
CATEGORIES:Summer Camp
ORGANIZER;CN="National Missionary Youth Ministries":MAILTO:mcanmym@gmail.com
GEO:18.0893401;-77.4887475
X-APPLE-STRUCTURED-LOCATION;VALUE=URI;X-ADDRESS=The Kendal Camp and Conference Centre Kendal Mandeville Manchester 00000 Jamaica;X-APPLE-RADIUS=500;X-TITLE=Kendal:geo:-77.4887475,18.0893401
END:VEVENT
BEGIN:VEVENT
DTSTART;TZID=America/Jamaica:20290721T080000
DTEND;TZID=America/Jamaica:20290728T170000
DTSTAMP:20260422T055541
CREATED:20231026T062506Z
LAST-MODIFIED:20250324T155151Z
UID:10000825-1879315200-1879952400@the-mcaj.org
SUMMARY:NMYM Summer Camp - Camp 2
DESCRIPTION:The National Missionary Youth Ministries Summer Camp 2 is for children aged 9 – 11.
URL:https://the-mcaj.org/event/nmym-summer-camp-camp-2-2/2029-07-21/
LOCATION:The Kendal Camp and Conference Centre\, Kendal\, Mandeville\, Manchester\, 00000\, Jamaica
CATEGORIES:Summer Camp
ORGANIZER;CN="National Missionary Youth Ministries":MAILTO:mcanmym@gmail.com
GEO:18.0893401;-77.4887475
X-APPLE-STRUCTURED-LOCATION;VALUE=URI;X-ADDRESS=The Kendal Camp and Conference Centre Kendal Mandeville Manchester 00000 Jamaica;X-APPLE-RADIUS=500;X-TITLE=Kendal:geo:-77.4887475,18.0893401
END:VEVENT
BEGIN:VEVENT
DTSTART;TZID=America/Jamaica:20290728T080000
DTEND;TZID=America/Jamaica:20290804T170000
DTSTAMP:20260422T055541
CREATED:20231026T062825Z
LAST-MODIFIED:20250324T155052Z
UID:10000890-1879920000-1880557200@the-mcaj.org
SUMMARY:NMYM Summer Camp - Camp 3
DESCRIPTION:The National Missionary Youth Ministries Summer Camp 3 is for children aged 12 – 14.
URL:https://the-mcaj.org/event/nmym-summer-camp-camp-3-2/2029-07-28/
LOCATION:The Kendal Camp and Conference Centre\, Kendal\, Mandeville\, Manchester\, 00000\, Jamaica
CATEGORIES:Summer Camp
ORGANIZER;CN="National Missionary Youth Ministries":MAILTO:mcanmym@gmail.com
GEO:18.0893401;-77.4887475
X-APPLE-STRUCTURED-LOCATION;VALUE=URI;X-ADDRESS=The Kendal Camp and Conference Centre Kendal Mandeville Manchester 00000 Jamaica;X-APPLE-RADIUS=500;X-TITLE=Kendal:geo:-77.4887475,18.0893401
END:VEVENT
BEGIN:VEVENT
DTSTART;TZID=America/Jamaica:20290804T080000
DTEND;TZID=America/Jamaica:20290811T170000
DTSTAMP:20260422T055541
CREATED:20231026T063130Z
LAST-MODIFIED:20250324T154814Z
UID:10000891-1880524800-1881162000@the-mcaj.org
SUMMARY:NMYM Summer Camp - Camp 4
DESCRIPTION:The National Missionary Youth Ministries Summer Camp 4 is for youth aged 15 – 17.
URL:https://the-mcaj.org/event/nmym-summer-camp-camp-4-2/2029-08-04/
LOCATION:The Kendal Camp and Conference Centre\, Kendal\, Mandeville\, Manchester\, 00000\, Jamaica
CATEGORIES:Summer Camp
ORGANIZER;CN="National Missionary Youth Ministries":MAILTO:mcanmym@gmail.com
GEO:18.0893401;-77.4887475
X-APPLE-STRUCTURED-LOCATION;VALUE=URI;X-ADDRESS=The Kendal Camp and Conference Centre Kendal Mandeville Manchester 00000 Jamaica;X-APPLE-RADIUS=500;X-TITLE=Kendal:geo:-77.4887475,18.0893401
END:VEVENT
BEGIN:VEVENT
DTSTART;TZID=America/Jamaica:20290811T080000
DTEND;TZID=America/Jamaica:20290811T170000
DTSTAMP:20260422T055541
CREATED:20260204T204708Z
LAST-MODIFIED:20260204T204736Z
UID:10001528-1881129600-1881162000@the-mcaj.org
SUMMARY:NMYM Annual Sports Day
DESCRIPTION:The Annual NMYM Sports Day is held on Saturday at the closing of Camp 4 and the start of Camp 5.
URL:https://the-mcaj.org/event/nmym-annual-sports-day/2029-08-11/
LOCATION:The Kendal Camp and Conference Centre\, Kendal\, Mandeville\, Manchester\, 00000\, Jamaica
CATEGORIES:Summer Camp,Youth Ministry Events
ORGANIZER;CN="National Missionary Youth Ministries":MAILTO:mcanmym@gmail.com
GEO:18.0893401;-77.4887475
X-APPLE-STRUCTURED-LOCATION;VALUE=URI;X-ADDRESS=The Kendal Camp and Conference Centre Kendal Mandeville Manchester 00000 Jamaica;X-APPLE-RADIUS=500;X-TITLE=Kendal:geo:-77.4887475,18.0893401
END:VEVENT
BEGIN:VEVENT
DTSTART;TZID=America/Jamaica:20290811T080000
DTEND;TZID=America/Jamaica:20290818T170000
DTSTAMP:20260422T055541
CREATED:20231026T063508Z
LAST-MODIFIED:20250324T154715Z
UID:10000892-1881129600-1881766800@the-mcaj.org
SUMMARY:NMYM Summer Camp - Camp 5
DESCRIPTION:The National Missionary Youth Ministries Summer Camp 5 is for youth aged 18 and over.
URL:https://the-mcaj.org/event/nmym-summer-camp-camp-5-2/2029-08-11/
LOCATION:The Kendal Camp and Conference Centre\, Kendal\, Mandeville\, Manchester\, 00000\, Jamaica
CATEGORIES:Summer Camp
ORGANIZER;CN="National Missionary Youth Ministries":MAILTO:mcanmym@gmail.com
GEO:18.0893401;-77.4887475
X-APPLE-STRUCTURED-LOCATION;VALUE=URI;X-ADDRESS=The Kendal Camp and Conference Centre Kendal Mandeville Manchester 00000 Jamaica;X-APPLE-RADIUS=500;X-TITLE=Kendal:geo:-77.4887475,18.0893401
END:VEVENT
BEGIN:VEVENT
DTSTART;TZID=America/Jamaica:20300525T080000
DTEND;TZID=America/Jamaica:20300525T170000
DTSTAMP:20260422T055541
CREATED:20260204T175353Z
LAST-MODIFIED:20260204T175531Z
UID:10001517-1905926400-1905958800@the-mcaj.org
SUMMARY:Annual Summer Camp Workers Retreat
DESCRIPTION:Retreat for persons who volunteer to work at the Annual Youth Camps of The MCAJ.
URL:https://the-mcaj.org/event/annual-camp-workers-retreat/2030-05-25/
LOCATION:The Kendal Camp and Conference Centre\, Kendal\, Mandeville\, Manchester\, 00000\, Jamaica
CATEGORIES:Summer Camp
ORGANIZER;CN="National Missionary Youth Ministries":MAILTO:mcanmym@gmail.com
GEO:18.0893401;-77.4887475
X-APPLE-STRUCTURED-LOCATION;VALUE=URI;X-ADDRESS=The Kendal Camp and Conference Centre Kendal Mandeville Manchester 00000 Jamaica;X-APPLE-RADIUS=500;X-TITLE=Kendal:geo:-77.4887475,18.0893401
END:VEVENT
END:VCALENDAR