BEGIN:VCALENDAR
VERSION:2.0
PRODID:-//The Missionary Church Association in Jamaica - ECPv6.15.20//NONSGML v1.0//EN
CALSCALE:GREGORIAN
METHOD:PUBLISH
X-ORIGINAL-URL:https://the-mcaj.org
X-WR-CALDESC:Events for The Missionary Church Association in Jamaica
REFRESH-INTERVAL;VALUE=DURATION:PT1H
X-Robots-Tag:noindex
X-PUBLISHED-TTL:PT1H
BEGIN:VTIMEZONE
TZID:America/Jamaica
BEGIN:STANDARD
TZOFFSETFROM:-0500
TZOFFSETTO:-0500
TZNAME:EST
DTSTART:20250101T000000
END:STANDARD
END:VTIMEZONE
BEGIN:VEVENT
DTSTART;TZID=America/Jamaica:20260613T080000
DTEND;TZID=America/Jamaica:20260613T170000
DTSTAMP:20260419T073824
CREATED:20250427T190646Z
LAST-MODIFIED:20250427T190703Z
UID:10001387-1781337600-1781370000@the-mcaj.org
SUMMARY:National Missions Conference
DESCRIPTION:The Evangelism and Missions Department’s National Missions Conference.
URL:https://the-mcaj.org/event/national-missions-conference/2026-06-13/
CATEGORIES:Missions Conference
ORGANIZER;CN="Evangelism and Missions Department":MAILTO:evangelismandmissions@the-mcaj.org
END:VEVENT
BEGIN:VEVENT
DTSTART;TZID=America/Jamaica:20270612T080000
DTEND;TZID=America/Jamaica:20270612T170000
DTSTAMP:20260419T073824
CREATED:20250427T190646Z
LAST-MODIFIED:20250427T190703Z
UID:10001388-1812787200-1812819600@the-mcaj.org
SUMMARY:National Missions Conference
DESCRIPTION:The Evangelism and Missions Department’s National Missions Conference.
URL:https://the-mcaj.org/event/national-missions-conference/2027-06-12/
CATEGORIES:Missions Conference
ORGANIZER;CN="Evangelism and Missions Department":MAILTO:evangelismandmissions@the-mcaj.org
END:VEVENT
BEGIN:VEVENT
DTSTART;TZID=America/Jamaica:20280610T080000
DTEND;TZID=America/Jamaica:20280610T170000
DTSTAMP:20260419T073824
CREATED:20250427T190646Z
LAST-MODIFIED:20250427T190703Z
UID:10001389-1844236800-1844269200@the-mcaj.org
SUMMARY:National Missions Conference
DESCRIPTION:The Evangelism and Missions Department’s National Missions Conference.
URL:https://the-mcaj.org/event/national-missions-conference/2028-06-10/
CATEGORIES:Missions Conference
ORGANIZER;CN="Evangelism and Missions Department":MAILTO:evangelismandmissions@the-mcaj.org
END:VEVENT
BEGIN:VEVENT
DTSTART;TZID=America/Jamaica:20290609T080000
DTEND;TZID=America/Jamaica:20290609T170000
DTSTAMP:20260419T073824
CREATED:20250427T190646Z
LAST-MODIFIED:20250427T190703Z
UID:10001390-1875686400-1875718800@the-mcaj.org
SUMMARY:National Missions Conference
DESCRIPTION:The Evangelism and Missions Department’s National Missions Conference.
URL:https://the-mcaj.org/event/national-missions-conference/2029-06-09/
CATEGORIES:Missions Conference
ORGANIZER;CN="Evangelism and Missions Department":MAILTO:evangelismandmissions@the-mcaj.org
END:VEVENT
END:VCALENDAR