BEGIN:VCALENDAR
VERSION:2.0
PRODID:-//The Missionary Church Association in Jamaica - ECPv6.15.20//NONSGML v1.0//EN
CALSCALE:GREGORIAN
METHOD:PUBLISH
X-ORIGINAL-URL:https://the-mcaj.org
X-WR-CALDESC:Events for The Missionary Church Association in Jamaica
REFRESH-INTERVAL;VALUE=DURATION:PT1H
X-Robots-Tag:noindex
X-PUBLISHED-TTL:PT1H
BEGIN:VTIMEZONE
TZID:America/Jamaica
BEGIN:STANDARD
TZOFFSETFROM:-0500
TZOFFSETTO:-0500
TZNAME:EST
DTSTART:20250101T000000
END:STANDARD
END:VTIMEZONE
BEGIN:VEVENT
DTSTART;TZID=America/Jamaica:20260926T090000
DTEND;TZID=America/Jamaica:20260926T150000
DTSTAMP:20260421T011459
CREATED:20230204T050926Z
LAST-MODIFIED:20260212T160651Z
UID:10000850-1790413200-1790434800@the-mcaj.org
SUMMARY:Annual Leadership Conference
DESCRIPTION:Annual Leadership Conference for church leaders and Pastors.
URL:https://the-mcaj.org/event/leadership-consultation/2026-09-26/
LOCATION:MCAJ Virtual Platforms\, 14-16 West Avenue\, Kingston 8\, 00000\, Jamaica
CATEGORIES:Conference
ATTACH;FMTTYPE=image/jpeg:https://the-mcaj.org/wp-content/uploads/MCAJ-Menu-Logo.jpg
ORGANIZER;CN="The Missionary Church Association in Jamaica":MAILTO:mcaj@the-mcaj.org
GEO:18.0331225;-76.7994006
X-APPLE-STRUCTURED-LOCATION;VALUE=URI;X-ADDRESS=MCAJ Virtual Platforms 14-16 West Avenue Kingston 8 00000 Jamaica;X-APPLE-RADIUS=500;X-TITLE=14-16 West Avenue:geo:-76.7994006,18.0331225
END:VEVENT
BEGIN:VEVENT
DTSTART;TZID=America/Jamaica:20270406T090000
DTEND;TZID=America/Jamaica:20270409T170000
DTSTAMP:20260421T011459
CREATED:20230128T004527Z
LAST-MODIFIED:20260204T171109Z
UID:10001476-1807002000-1807290000@the-mcaj.org
SUMMARY:MCAJ National Conference
DESCRIPTION:The 78th Annual National Conference of Delegates for the churches of the MCAJ.
URL:https://the-mcaj.org/event/mcaj-national-conference/2027-04-06/
LOCATION:The Kendal Camp and Conference Centre\, Kendal\, Mandeville\, Manchester\, 00000\, Jamaica
CATEGORIES:Annual Conference
ORGANIZER;CN="The Missionary Church Association in Jamaica":MAILTO:mcaj@the-mcaj.org
GEO:18.0893401;-77.4887475
X-APPLE-STRUCTURED-LOCATION;VALUE=URI;X-ADDRESS=The Kendal Camp and Conference Centre Kendal Mandeville Manchester 00000 Jamaica;X-APPLE-RADIUS=500;X-TITLE=Kendal:geo:-77.4887475,18.0893401
END:VEVENT
BEGIN:VEVENT
DTSTART;TZID=America/Jamaica:20270925T090000
DTEND;TZID=America/Jamaica:20270925T150000
DTSTAMP:20260421T011459
CREATED:20230204T050926Z
LAST-MODIFIED:20260212T160651Z
UID:10000851-1821862800-1821884400@the-mcaj.org
SUMMARY:Annual Leadership Conference
DESCRIPTION:Annual Leadership Conference for church leaders and Pastors.
URL:https://the-mcaj.org/event/leadership-consultation/2027-09-25/
LOCATION:MCAJ Virtual Platforms\, 14-16 West Avenue\, Kingston 8\, 00000\, Jamaica
CATEGORIES:Conference
ATTACH;FMTTYPE=image/jpeg:https://the-mcaj.org/wp-content/uploads/MCAJ-Menu-Logo.jpg
ORGANIZER;CN="The Missionary Church Association in Jamaica":MAILTO:mcaj@the-mcaj.org
GEO:18.0331225;-76.7994006
X-APPLE-STRUCTURED-LOCATION;VALUE=URI;X-ADDRESS=MCAJ Virtual Platforms 14-16 West Avenue Kingston 8 00000 Jamaica;X-APPLE-RADIUS=500;X-TITLE=14-16 West Avenue:geo:-76.7994006,18.0331225
END:VEVENT
BEGIN:VEVENT
DTSTART;TZID=America/Jamaica:20280404T090000
DTEND;TZID=America/Jamaica:20280407T170000
DTSTAMP:20260421T011459
CREATED:20230128T004527Z
LAST-MODIFIED:20260204T171109Z
UID:10001477-1838451600-1838739600@the-mcaj.org
SUMMARY:MCAJ National Conference
DESCRIPTION:The 78th Annual National Conference of Delegates for the churches of the MCAJ.
URL:https://the-mcaj.org/event/mcaj-national-conference/2028-04-04/
LOCATION:The Kendal Camp and Conference Centre\, Kendal\, Mandeville\, Manchester\, 00000\, Jamaica
CATEGORIES:Annual Conference
ORGANIZER;CN="The Missionary Church Association in Jamaica":MAILTO:mcaj@the-mcaj.org
GEO:18.0893401;-77.4887475
X-APPLE-STRUCTURED-LOCATION;VALUE=URI;X-ADDRESS=The Kendal Camp and Conference Centre Kendal Mandeville Manchester 00000 Jamaica;X-APPLE-RADIUS=500;X-TITLE=Kendal:geo:-77.4887475,18.0893401
END:VEVENT
BEGIN:VEVENT
DTSTART;TZID=America/Jamaica:20280923T090000
DTEND;TZID=America/Jamaica:20280923T150000
DTSTAMP:20260421T011459
CREATED:20230204T050926Z
LAST-MODIFIED:20260212T160651Z
UID:10000852-1853312400-1853334000@the-mcaj.org
SUMMARY:Annual Leadership Conference
DESCRIPTION:Annual Leadership Conference for church leaders and Pastors.
URL:https://the-mcaj.org/event/leadership-consultation/2028-09-23/
LOCATION:MCAJ Virtual Platforms\, 14-16 West Avenue\, Kingston 8\, 00000\, Jamaica
CATEGORIES:Conference
ATTACH;FMTTYPE=image/jpeg:https://the-mcaj.org/wp-content/uploads/MCAJ-Menu-Logo.jpg
ORGANIZER;CN="The Missionary Church Association in Jamaica":MAILTO:mcaj@the-mcaj.org
GEO:18.0331225;-76.7994006
X-APPLE-STRUCTURED-LOCATION;VALUE=URI;X-ADDRESS=MCAJ Virtual Platforms 14-16 West Avenue Kingston 8 00000 Jamaica;X-APPLE-RADIUS=500;X-TITLE=14-16 West Avenue:geo:-76.7994006,18.0331225
END:VEVENT
BEGIN:VEVENT
DTSTART;TZID=America/Jamaica:20290403T090000
DTEND;TZID=America/Jamaica:20290406T170000
DTSTAMP:20260421T011459
CREATED:20230128T004527Z
LAST-MODIFIED:20260204T171109Z
UID:10001478-1869901200-1870189200@the-mcaj.org
SUMMARY:MCAJ National Conference
DESCRIPTION:The 78th Annual National Conference of Delegates for the churches of the MCAJ.
URL:https://the-mcaj.org/event/mcaj-national-conference/2029-04-03/
LOCATION:The Kendal Camp and Conference Centre\, Kendal\, Mandeville\, Manchester\, 00000\, Jamaica
CATEGORIES:Annual Conference
ORGANIZER;CN="The Missionary Church Association in Jamaica":MAILTO:mcaj@the-mcaj.org
GEO:18.0893401;-77.4887475
X-APPLE-STRUCTURED-LOCATION;VALUE=URI;X-ADDRESS=The Kendal Camp and Conference Centre Kendal Mandeville Manchester 00000 Jamaica;X-APPLE-RADIUS=500;X-TITLE=Kendal:geo:-77.4887475,18.0893401
END:VEVENT
BEGIN:VEVENT
DTSTART;TZID=America/Jamaica:20290922T090000
DTEND;TZID=America/Jamaica:20290922T150000
DTSTAMP:20260421T011459
CREATED:20230204T050926Z
LAST-MODIFIED:20260212T160651Z
UID:10001292-1884762000-1884783600@the-mcaj.org
SUMMARY:Annual Leadership Conference
DESCRIPTION:Annual Leadership Conference for church leaders and Pastors.
URL:https://the-mcaj.org/event/leadership-consultation/2029-09-22/
LOCATION:MCAJ Virtual Platforms\, 14-16 West Avenue\, Kingston 8\, 00000\, Jamaica
CATEGORIES:Conference
ATTACH;FMTTYPE=image/jpeg:https://the-mcaj.org/wp-content/uploads/MCAJ-Menu-Logo.jpg
ORGANIZER;CN="The Missionary Church Association in Jamaica":MAILTO:mcaj@the-mcaj.org
GEO:18.0331225;-76.7994006
X-APPLE-STRUCTURED-LOCATION;VALUE=URI;X-ADDRESS=MCAJ Virtual Platforms 14-16 West Avenue Kingston 8 00000 Jamaica;X-APPLE-RADIUS=500;X-TITLE=14-16 West Avenue:geo:-76.7994006,18.0331225
END:VEVENT
BEGIN:VEVENT
DTSTART;TZID=America/Jamaica:20300402T090000
DTEND;TZID=America/Jamaica:20300405T170000
DTSTAMP:20260421T011459
CREATED:20230128T004527Z
LAST-MODIFIED:20260204T171109Z
UID:10001479-1901350800-1901638800@the-mcaj.org
SUMMARY:MCAJ National Conference
DESCRIPTION:The 78th Annual National Conference of Delegates for the churches of the MCAJ.
URL:https://the-mcaj.org/event/mcaj-national-conference/2030-04-02/
LOCATION:The Kendal Camp and Conference Centre\, Kendal\, Mandeville\, Manchester\, 00000\, Jamaica
CATEGORIES:Annual Conference
ORGANIZER;CN="The Missionary Church Association in Jamaica":MAILTO:mcaj@the-mcaj.org
GEO:18.0893401;-77.4887475
X-APPLE-STRUCTURED-LOCATION;VALUE=URI;X-ADDRESS=The Kendal Camp and Conference Centre Kendal Mandeville Manchester 00000 Jamaica;X-APPLE-RADIUS=500;X-TITLE=Kendal:geo:-77.4887475,18.0893401
END:VEVENT
BEGIN:VEVENT
DTSTART;TZID=America/Jamaica:20300928T090000
DTEND;TZID=America/Jamaica:20300928T150000
DTSTAMP:20260421T011459
CREATED:20230204T050926Z
LAST-MODIFIED:20260212T160651Z
UID:10001565-1916816400-1916838000@the-mcaj.org
SUMMARY:Annual Leadership Conference
DESCRIPTION:Annual Leadership Conference for church leaders and Pastors.
URL:https://the-mcaj.org/event/leadership-consultation/2030-09-28/
LOCATION:MCAJ Virtual Platforms\, 14-16 West Avenue\, Kingston 8\, 00000\, Jamaica
CATEGORIES:Conference
ATTACH;FMTTYPE=image/jpeg:https://the-mcaj.org/wp-content/uploads/MCAJ-Menu-Logo.jpg
ORGANIZER;CN="The Missionary Church Association in Jamaica":MAILTO:mcaj@the-mcaj.org
GEO:18.0331225;-76.7994006
X-APPLE-STRUCTURED-LOCATION;VALUE=URI;X-ADDRESS=MCAJ Virtual Platforms 14-16 West Avenue Kingston 8 00000 Jamaica;X-APPLE-RADIUS=500;X-TITLE=14-16 West Avenue:geo:-76.7994006,18.0331225
END:VEVENT
END:VCALENDAR