BEGIN:VCALENDAR
VERSION:2.0
PRODID:-//The Missionary Church Association in Jamaica - ECPv6.15.20//NONSGML v1.0//EN
CALSCALE:GREGORIAN
METHOD:PUBLISH
X-ORIGINAL-URL:https://the-mcaj.org
X-WR-CALDESC:Events for The Missionary Church Association in Jamaica
REFRESH-INTERVAL;VALUE=DURATION:PT1H
X-Robots-Tag:noindex
X-PUBLISHED-TTL:PT1H
BEGIN:VTIMEZONE
TZID:America/Jamaica
BEGIN:STANDARD
TZOFFSETFROM:-0500
TZOFFSETTO:-0500
TZNAME:EST
DTSTART:20250101T000000
END:STANDARD
END:VTIMEZONE
BEGIN:VEVENT
DTSTART;TZID=America/Jamaica:20260613T080000
DTEND;TZID=America/Jamaica:20260613T170000
DTSTAMP:20260422T073703
CREATED:20260204T184431Z
LAST-MODIFIED:20260204T184526Z
UID:10001518-1781337600-1781370000@the-mcaj.org
SUMMARY:NMYM Leadership Training Session
DESCRIPTION:Scheduled NMYM Leadership Training Session. This is an online event.
URL:https://the-mcaj.org/event/nmym-leadership-training-session/
LOCATION:NMYM Virtual Events\, 14-16 West Avenue\, Kingston 8\, 00000\, Jamaica
CATEGORIES:Training,Youth Ministry Events
ORGANIZER;CN="National Missionary Youth Ministries":MAILTO:mcanmym@gmail.com
GEO:18.0331225;-76.7994006
X-APPLE-STRUCTURED-LOCATION;VALUE=URI;X-ADDRESS=NMYM Virtual Events 14-16 West Avenue Kingston 8 00000 Jamaica;X-APPLE-RADIUS=500;X-TITLE=14-16 West Avenue:geo:-76.7994006,18.0331225
END:VEVENT
END:VCALENDAR